Workbook
Name HMQCHECK: INSTRUCTIONS!$B$46:$B$47
Name HMQRSP: INSTRUCTIONS!$B$32:$B$33
Name WEMGRSP: INSTRUCTIONS!$B$36:$B$41

Sheet INSTRUCTIONS
A1: The Right Honourable Herb Gray Parkway Project | I1: Revision # | J1: automatically filled by DC
A2: Submittal Compliance Review Report # | G2: automatically filled by DC
A3: Comments and Disposition Sheet
A4: TOPIC: TBD
A5: Submittal Number: | D5: automically filled in by H3
A6: Submittal Title: | D6: automically filled in by H3
A7: H3 Document Number: | D7: automically filled in by H3
A8: Title of Project Co Document, subject of this review: | D8: automically filled in by H3
A9: Number of Project Co Document, subject of this review: | D9: automically filled in by H3
A10: Review Due Date: | D10: automically filled in by H3
A11: Lead Reviewer name: | D11: automically filled in by H3
A12: Reviewers Names | D12: automically filled in by H3
A14: 1 | B14: 2 | C14: 3 | D14: 4 | E14: 5 | F14: 6 | G14: 7 | H14: 8 | I14: 9 | J14: 10
A15: Comment No. | B15: Section of Document | C15: Subject Item | D15: Project Agreement Reference | E15: Project Agreement Requirement | F15: HMQ Review Comment | G15: HMQ | H15: WEMG Response | I15: WEMG Compliance | J15: HMQ Check
G16: Designation | I16: Action
A17: 1 | B17: List the referenced section of the review document (include plan and page number as applicable) | C17: List the subject item | D17: Provide the relevant Project Agreement Reference | E17: Copy and paste the relevant section or clause from the Project Agreement | F17: Insert the review comment (use a separate line for each comment) | G17: Reviewed as Noted or Rejected | H17: See the list below | I17: Describe the action that was taken to respond to the comment and to address it in the documents to be submitted at the next stage of review. | J17: Compliant or Non-Compliant
A18: 2
A19: 3
A21: Notes to Users of this Submittal Compliance Review WorkBook
A22: 1. Worksheet "Summary" is filled by the PA Compliance Manager, except for the header wich is filled by DC
A23: 2. Worksheet "Reviewed items" is filled by the Lead Reviewer
A24: 3. Individual reviewers must identify their worksheet, in accordance to the TOPIC (their specialty) and fill in only in that worksheet, as per the following instructions:
A26: Columns 1-6 are to be completed by HMQ upon review of the document.
A27: Columns 2 and 3 cite the Document section and the specific item being addressed.
A28: Column 4 is the Schedule, part, and section from the Project Agreement.
A29: Column 5 is a quote copied directly from the Project Agreement.
A30: Column 6 contains HMQ’s comments regarding the compliance of the subject item.
A31: Column 7 is where HMQ enters either:
B32: Reviewed As Noted
B33: Rejected
A34: Note that items that have been “Reviewed” for which HMQ has no comment will not be included in this table.
A35: Column 8 cells are unlocked and are for WEMG to enter its response to HMQs comments. This will be done after the Compliance Review Form has been transmitted by HMQ to WEMG. The entry options are:
B36: Will Comply
B37: Will Resubmit
B38: Will Evaluate
B39: Don’t Understand
B40: Disagree
B41: Not Applicable
A42: If there are differences between Columns 7 and 8, a meeting will be scheduled to discuss and the entries will be adjusted to reflect the resolution.
A43: Column 9 cells are unlocked and will be filled in by WEMG to indicate what action was taken to address the intended response. The complete form will be included with the next formal submittal package (i.e.: when submitting the Final Design package after the Pre-Final Design submittal).
A44: For a single submission that do not have subsequent submittal packages, this column will be filled in with the re-submittal.
A45: Column 10 is where HMQ enters its conclusion when a comment has been addressed. This effectively closes the comment. A Non-Compliant conclusion may lead to the Variation or Dispute Resolution Procedures.
B46: Compliant
B47: Non-Compliant
A49: NOTATION CONVENTIONS FOR THE IDENTIFICATION NUMBER (ID):
A50: The groups of digits of the ID are organized as follows:
A51: [Originator ID digits]-[Submittal ID digits] & [Revision Number]-[Document Type ID digits]-[ Sequence of digits for the document/record of the same type, issued under the same submittal by the same originator]
A52: “Originator ID” group of digits The ID group [originator ID digits] is limited to two digits and the following convention applies: “PC” is to be used for documents/records issued by Project Co (WEMG) “H1” is to be used for documents/records issued by IO ”H2” is to be used for documents/records issued by MTO ”H3” is to be used for documents/records issued by CH2M Hill ”H4” is to be used for documents/records issued by Owner’s Engineer “IC” is to be used for documents/records issued by Independent Certifier

Sheet SUMMARY
A1: The Right Honourable Herb Gray Parkway Project
A2: Submittal Compliance Review Report
A3: Summary Report
A4: (for Each Submittal Document)
A5: IDENTIFICATION DATA (reserved for DC)
A6: Submittal Number: | B6: SUB - M737-3A - 967
A7: Submittal Title: | B7: Phase 1 - Pumping Stations 6 and 7 - 90% Submission
A8: Review Due Date: | B8: 41288
A9: Title of Project Co Document, subject of this review: | B9: Phase 1 - Pumping Stations 6 and 7 - 90% Submission
A10: Number of Project Co Document, subject of this review: | B10: M737-3A - Phase 1 - Pumping Stations 6 and 7 - 90% Submittal.zip
A11: H3 number assigned to the document subject of this review: | B11: PC-M737-3A-REP-001; PC-M737-3A-TAF-001; PC-M737-3A-CAL-001; PC-M737-3A-DWG-001 to 081
A12: Revision # of the document subject of this review | B12: A
A13: Submittal Compliance Review Report document # | B13: H3-M737-3A-CRR-001
A14: Revision # of this Subimttal Compliance Review Report | B14: A
A15: SUMMARY REPORT
A16: REVIEW
A17: Lead Reviewer name: | B17: Dennis Regan
A18: PA Compliance Manager name: | B18: Werner Volkmann
A19: Review Completed on by Due Date:
A20: Reason for Delay (if applicable): | B20: =IF(B19="YES","NOT APPLICABLE","<WRITE REASONS>") -> <WRITE REASONS>
A21: All Items are assigned "REVIEWED":
A22: How many items assigned "REJECTED"?: | B22: =SUM(COUNTIF('DOC CTRL'!G17:G150,"rejected"),COUNTIF(ENVIRON!G17:G150,"rejected"), COUNTIF(ROADWAY!G17:G150, "rejected"), COUNTIF(UTILITIES!G17:G150,"rejected"),COUNTIF(STRUCTURES!G17:G150,"rejected"), COUNTIF(TBD!G17:G150,"rejected"), COUNTIF(ELECTRICAL!G17:G150,"rejected"), COUNTIF(TRAFFIC!G17:G150,"rejected"), COUNTIF(QUALITY!G17:G150,"rejected")) -> 0
A23: How many items assigned "REVIEWED AS NOTED"?: | B23: =SUM(COUNTIF('DOC CTRL'!G18:G150,"reviewed as noted"),COUNTIF(ENVIRON!G17:G150,"reviewed as noted"), COUNTIF(ROADWAY!G17:G150, "reviewed as noted"), COUNTIF(UTILITIES!G17:G150,"reviewed as noted"),COUNTIF(STRUCTURES!G17:G150,"reviewed as noted"), COUNTIF(TBD!G17:G150,"reviewed as noted"), COUNTIF(ELECTRICAL!G17:G150,"reviewed as noted"), COUNTIF(TRAFFIC!G17:G150,"reviewed as noted"), COUNTIF(QUALITY!G17:G150,"reviewed as noted")) -> 0
A25: REJECTED ITEMS
A26: Topic Reviewed (i.e. Tab in Workbook) | B26: Comment No.: | C26: Reason for Rejection:
A29: DEVIATIONS REQUIRED (a deviation to the PA that HMQ may consider, which may or may not lead to the Variation Procedure.)
A30: Topic Reviewed | B30: Comment No.: | C30: Description of Deviation:
A33: SIGNIFICANT COMMENTS ('Reviewed as Noted' item that needs to be brought to the HMQ Representative's attention.)
A34: Topic Reviewed | B34: Comment No.: | C34: Comment:
A37: NOTES
A40: Attachments:
A41: List of Items Reviewed
A42: Review Comments
A43: Other Attachments (if any):

Sheet REVIEWED ITEMS
A1: =SUMMARY!A1 -> The Right Honourable Herb Gray Parkway Project
A2: Submittal Compliance Review Report #: | E2: =SUMMARY!B13 -> H3-M737-3A-CRR-001
A3: Reviewed Items List | E3: Revision: | F3: =SUMMARY!B14 -> A
A5: =SUMMARY!A6 -> Submittal Number: | D5: =SUMMARY!B6 -> SUB - M737-3A - 967
A6: =SUMMARY!A7 -> Submittal Title: | D6: =SUMMARY!B7 -> Phase 1 - Pumping Stations 6 and 7 - 90% Submission
A7: =SUMMARY!A8 -> Review Due Date: | D7: =SUMMARY!B8 -> 41288
A8: =SUMMARY!A9 -> Title of Project Co Document, subject of this review: | D8: =SUMMARY!B9 -> Phase 1 - Pumping Stations 6 and 7 - 90% Submission
A9: =SUMMARY!A10 -> Number of Project Co Document, subject of this review: | D9: =SUMMARY!B10 -> M737-3A - Phase 1 - Pumping Stations 6 and 7 - 90% Submittal.zip
A10: =SUMMARY!A11 -> H3 number assigned to the document subject of this review: | D10: =SUMMARY!B11 -> PC-M737-3A-REP-001; PC-M737-3A-TAF-001; PC-M737-3A-CAL-001; PC-M737-3A-DWG-001 to 081
A11: Revision # of the document subject of this review | D11: =SUMMARY!B12 -> A
A12: =SUMMARY!A17 -> Lead Reviewer name: | D12: =SUMMARY!B17 -> Dennis Regan
A13: Reviewer(s) name(s):
A14: 1 | B14: 2 | C14: 3 | D14: 4 | E14: 5 | F14: 6
A15: No. | B15: Section | C15: Item Name | D15: Item Number | E15: Reviewed? | F15: Reason for Not Reviewing the Item

Sheet DOC CTRL
A1: The Right Honourable Herb Gray Parkway Project | I1: Revision # | J1: =SUMMARY!B14 -> A
A2: Submittal Compliance Review Report # | G2: =SUMMARY!B13 -> H3-M737-3A-CRR-001
A3: Comments and Disposition Sheet
A4: Topic: DOCUMENT CONTROL
A5: =SUMMARY!A6 -> Submittal Number: | F5: =SUMMARY!B6 -> SUB - M737-3A - 967
A6: =SUMMARY!A7 -> Submittal Title: | F6: =SUMMARY!B7 -> Phase 1 - Pumping Stations 6 and 7 - 90% Submission
A7: Review Due Date (typical two business days upon receipt of hardcopy package- date filled by H3):
A8: =SUMMARY!A9 -> Title of Project Co Document, subject of this review: | F8: =SUMMARY!B9 -> Phase 1 - Pumping Stations 6 and 7 - 90% Submission
A9: =SUMMARY!A10 -> Number of Project Co Document, subject of this review: | F9: =SUMMARY!B10 -> M737-3A - Phase 1 - Pumping Stations 6 and 7 - 90% Submittal.zip
A10: =SUMMARY!A11 -> H3 number assigned to the document subject of this review: | F10: =SUMMARY!B11 -> PC-M737-3A-REP-001; PC-M737-3A-TAF-001; PC-M737-3A-CAL-001; PC-M737-3A-DWG-001 to 081
A11: =SUMMARY!A12 -> Revision # of the document subject of this review | F11: =SUMMARY!B12 -> A
A12: =SUMMARY!$A$17 -> Lead Reviewer name: | F12: =SUMMARY!B17 -> Dennis Regan
A13: Reviewer(s) name(s):
A15: 1 | B15: 2 | C15: 3 | D15: 4 | E15: 5 | F15: 6 | G15: 7 | H15: 8 | I15: 9 | J15: 10
A16: Comment No. | B16: Section | C16: Item | D16: Project Agreement Reference | E16: Project Agreement Requirement | F16: HMQ Review Comment | G16: HMQ | H16: WEMG Response | I16: WEMG Compliance | J16: HMQ Check
G17: Designation | I17: Action
A18: 1
A19: 2
A20: 3
A21: 4
A22: 5
A23: 6

Sheet ENVIRON
A1: The Right Honourable Herb Gray Parkway Project | I1: Revision # | J1: =SUMMARY!B14 -> A
A2: Submittal Compliance Review Report # | G2: =SUMMARY!B13 -> H3-M737-3A-CRR-001
A3: Comments and Disposition Sheet
A4: Topic: ENVIRONMENTAL
A5: =SUMMARY!A6 -> Submittal Number: | E5: =SUMMARY!B6 -> SUB - M737-3A - 967
A6: =SUMMARY!A7 -> Submittal Title: | E6: =SUMMARY!B7 -> Phase 1 - Pumping Stations 6 and 7 - 90% Submission
A7: =SUMMARY!A8 -> Review Due Date: | E7: =SUMMARY!B8 -> 41288
A8: =SUMMARY!A9 -> Title of Project Co Document, subject of this review: | E8: =SUMMARY!B9 -> Phase 1 - Pumping Stations 6 and 7 - 90% Submission
A9: =SUMMARY!A10 -> Number of Project Co Document, subject of this review: | E9: =SUMMARY!B10 -> M737-3A - Phase 1 - Pumping Stations 6 and 7 - 90% Submittal.zip
A10: =SUMMARY!A11 -> H3 number assigned to the document subject of this review: | E10: =SUMMARY!B11 -> PC-M737-3A-REP-001; PC-M737-3A-TAF-001; PC-M737-3A-CAL-001; PC-M737-3A-DWG-001 to 081
A11: =SUMMARY!A12 -> Revision # of the document subject of this review | E11: =SUMMARY!B12 -> A
A12: =SUMMARY!A17 -> Lead Reviewer name: | E12: =SUMMARY!B17 -> Dennis Regan
A13: Reviewer(s) name(s):
A14: 1 | B14: 2 | C14: 3 | D14: 4 | E14: 5 | F14: 6 | G14: 7 | H14: 8 | I14: 9 | J14: 10
A15: Comment No. | B15: Section | C15: Item | D15: Project Agreement Reference | E15: Project Agreement Requirement | F15: HMQ Review Comment | G15: HMQ | H15: WEMG Response | I15: WEMG Compliance | J15: HMQ Check
G16: Designation | I16: Action
A17: 1
A18: 2
A19: 3
A20: 4
A21: 5
A22: 6

Sheet ROADWAY
A1: =SUMMARY!A1 -> The Right Honourable Herb Gray Parkway Project | I1: Revision # | J1: =SUMMARY!B14 -> A
A2: Submittal Compliance Review Report # | G2: =SUMMARY!B13 -> H3-M737-3A-CRR-001
A3: Comments and Disposition Sheet
A4: Topic: ROADWAY
A5: =SUMMARY!A6 -> Submittal Number: | E5: =SUMMARY!B6 -> SUB - M737-3A - 967
A6: =SUMMARY!A7 -> Submittal Title: | E6: =SUMMARY!B7 -> Phase 1 - Pumping Stations 6 and 7 - 90% Submission
A7: =SUMMARY!A8 -> Review Due Date: | E7: =SUMMARY!B8 -> 41288
A8: =SUMMARY!A9 -> Title of Project Co Document, subject of this review: | E8: =SUMMARY!B9 -> Phase 1 - Pumping Stations 6 and 7 - 90% Submission
A9: =SUMMARY!A10 -> Number of Project Co Document, subject of this review: | E9: =SUMMARY!B10 -> M737-3A - Phase 1 - Pumping Stations 6 and 7 - 90% Submittal.zip
A10: =SUMMARY!A11 -> H3 number assigned to the document subject of this review: | E10: =SUMMARY!B11 -> PC-M737-3A-REP-001; PC-M737-3A-TAF-001; PC-M737-3A-CAL-001; PC-M737-3A-DWG-001 to 081
A11: =SUMMARY!A12 -> Revision # of the document subject of this review | E11: =SUMMARY!B12 -> A
A12: =SUMMARY!A17 -> Lead Reviewer name: | E12: =SUMMARY!B17 -> Dennis Regan
A13: Reviewer(s) name(s):
A14: 1 | B14: 2 | C14: 3 | D14: 4 | E14: 5 | F14: 6 | G14: 7 | H14: 8 | I14: 9 | J14: 10
A15: Comment No. | B15: Section | C15: Item | D15: Project Agreement Reference | E15: Project Agreement Requirement | F15: HMQ Review Comment | G15: HMQ | H15: WEMG Response | I15: WEMG Compliance | J15: HMQ Check
G16: Designation | I16: Action
A17: 1
A18: 2
A19: 3
A20: 4
A21: 5
A22: 6

Sheet UTILITIES
A1: =SUMMARY!A1 -> The Right Honourable Herb Gray Parkway Project | I1: Revision # | J1: =SUMMARY!B14 -> A
A2: Submittal Compliance Review Report # | G2: =SUMMARY!B13 -> H3-M737-3A-CRR-001
A3: Comments and Disposition Sheet
A4: Topic: UTILITIES
A5: =SUMMARY!A6 -> Submittal Number: | E5: =SUMMARY!B6 -> SUB - M737-3A - 967
A6: =SUMMARY!A7 -> Submittal Title: | E6: =SUMMARY!B7 -> Phase 1 - Pumping Stations 6 and 7 - 90% Submission
A7: =SUMMARY!A8 -> Review Due Date: | E7: =SUMMARY!B8 -> 41288
A8: =SUMMARY!A9 -> Title of Project Co Document, subject of this review: | E8: =SUMMARY!B9 -> Phase 1 - Pumping Stations 6 and 7 - 90% Submission
A9: =SUMMARY!A10 -> Number of Project Co Document, subject of this review: | E9: =SUMMARY!B10 -> M737-3A - Phase 1 - Pumping Stations 6 and 7 - 90% Submittal.zip
A10: =SUMMARY!A11 -> H3 number assigned to the document subject of this review: | E10: =SUMMARY!B11 -> PC-M737-3A-REP-001; PC-M737-3A-TAF-001; PC-M737-3A-CAL-001; PC-M737-3A-DWG-001 to 081
A11: =SUMMARY!A12 -> Revision # of the document subject of this review | E11: =SUMMARY!B12 -> A
A12: =SUMMARY!A17 -> Lead Reviewer name: | E12: =SUMMARY!B17 -> Dennis Regan
A13: Reviewer(s) name(s):
A14: 1 | B14: 2 | C14: 3 | D14: 4 | E14: 5 | F14: 6 | G14: 7 | H14: 8 | I14: 9 | J14: 10
A15: Comment No. | B15: Section | C15: Item | D15: Project Agreement Reference | E15: Project Agreement Requirement | F15: HMQ Review Comment | G15: HMQ | H15: WEMG Response | I15: WEMG Compliance | J15: HMQ Check
G16: Designation | I16: Action
A17: 1
A18: 2
A19: 3
A20: 4
A21: 5
A22: 6

Sheet STRUCTURES
A1: =SUMMARY!A1 -> The Right Honourable Herb Gray Parkway Project | I1: Revision # | J1: =SUMMARY!B14 -> A
A2: Submittal Compliance Review Report # | G2: =SUMMARY!B13 -> H3-M737-3A-CRR-001
A3: Comments and Disposition Sheet
A4: Topic: STRUCTURES
A5: =SUMMARY!A6 -> Submittal Number: | E5: =SUMMARY!B6 -> SUB - M737-3A - 967
A6: =SUMMARY!A7 -> Submittal Title: | E6: =SUMMARY!B7 -> Phase 1 - Pumping Stations 6 and 7 - 90% Submission
A7: =SUMMARY!A8 -> Review Due Date: | E7: =SUMMARY!B8 -> 41288
A8: =SUMMARY!A9 -> Title of Project Co Document, subject of this review: | E8: =SUMMARY!B9 -> Phase 1 - Pumping Stations 6 and 7 - 90% Submission
A9: =SUMMARY!A10 -> Number of Project Co Document, subject of this review: | E9: =SUMMARY!B10 -> M737-3A - Phase 1 - Pumping Stations 6 and 7 - 90% Submittal.zip
A10: =SUMMARY!A11 -> H3 number assigned to the document subject of this review: | E10: =SUMMARY!B11 -> PC-M737-3A-REP-001; PC-M737-3A-TAF-001; PC-M737-3A-CAL-001; PC-M737-3A-DWG-001 to 081
A11: =SUMMARY!A12 -> Revision # of the document subject of this review | E11: =SUMMARY!B12 -> A
A12: =SUMMARY!A17 -> Lead Reviewer name: | E12: =SUMMARY!B17 -> Dennis Regan
A13: Reviewer(s) name(s):
A14: 1 | B14: 2 | C14: 3 | D14: 4 | E14: 5 | F14: 6 | G14: 7 | H14: 8 | I14: 9 | J14: 10
A15: Comment No. | B15: Section | C15: Item | D15: Project Agreement Reference | E15: Project Agreement Requirement | F15: HMQ Review Comment | G15: HMQ | H15: WEMG Response | I15: WEMG Compliance | J15: HMQ Check
G16: Designation | I16: Action
A17: 1
A18: 2
A19: 3
A20: 4
A21: 5
A22: 6

Sheet ELECTRICAL
A1: =SUMMARY!A1 -> The Right Honourable Herb Gray Parkway Project | I1: Revision # | J1: =SUMMARY!B14 -> A
A2: Submittal Compliance Review Report # | G2: =SUMMARY!B13 -> H3-M737-3A-CRR-001
A3: Comments and Disposition Sheet
A4: Topic: ELECTRICAL
A5: =SUMMARY!A6 -> Submittal Number: | E5: =SUMMARY!B6 -> SUB - M737-3A - 967
A6: =SUMMARY!A7 -> Submittal Title: | E6: =SUMMARY!B7 -> Phase 1 - Pumping Stations 6 and 7 - 90% Submission
A7: =SUMMARY!A8 -> Review Due Date: | E7: =SUMMARY!B8 -> 41288
A8: =SUMMARY!A9 -> Title of Project Co Document, subject of this review: | E8: =SUMMARY!B9 -> Phase 1 - Pumping Stations 6 and 7 - 90% Submission
A9: =SUMMARY!A10 -> Number of Project Co Document, subject of this review: | E9: =SUMMARY!B10 -> M737-3A - Phase 1 - Pumping Stations 6 and 7 - 90% Submittal.zip
A10: =SUMMARY!A11 -> H3 number assigned to the document subject of this review: | E10: =SUMMARY!B11 -> PC-M737-3A-REP-001; PC-M737-3A-TAF-001; PC-M737-3A-CAL-001; PC-M737-3A-DWG-001 to 081
A11: =SUMMARY!A12 -> Revision # of the document subject of this review | E11: =SUMMARY!B12 -> A
A12: =SUMMARY!A17 -> Lead Reviewer name: | E12: =SUMMARY!B17 -> Dennis Regan
A13: Reviewer(s) name(s):
A14: 1 | B14: 2 | C14: 3 | D14: 4 | E14: 5 | F14: 6 | G14: 7 | H14: 8 | I14: 9 | J14: 10
A15: Comment No. | B15: Section | C15: Item | D15: Project Agreement Reference | E15: Project Agreement Requirement | F15: HMQ Review Comment | G15: HMQ | H15: WEMG Response | I15: WEMG Compliance | J15: HMQ Check
G16: Designation | I16: Action
A17: 1
A18: 2
A19: 3
A20: 4
A21: 5
A22: 6

Sheet TRAFFIC
A1: =SUMMARY!A1 -> The Right Honourable Herb Gray Parkway Project | I1: Revision # | J1: =SUMMARY!B14 -> A
A2: Submittal Compliance Review Report # | G2: =SUMMARY!B13 -> H3-M737-3A-CRR-001
A3: Comments and Disposition Sheet
A4: Topic: TRAFFIC
A5: =SUMMARY!A6 -> Submittal Number: | E5: =SUMMARY!B6 -> SUB - M737-3A - 967
A6: =SUMMARY!A7 -> Submittal Title: | E6: =SUMMARY!B7 -> Phase 1 - Pumping Stations 6 and 7 - 90% Submission
A7: =SUMMARY!A8 -> Review Due Date: | E7: =SUMMARY!B8 -> 41288
A8: =SUMMARY!A9 -> Title of Project Co Document, subject of this review: | E8: =SUMMARY!B9 -> Phase 1 - Pumping Stations 6 and 7 - 90% Submission
A9: =SUMMARY!A10 -> Number of Project Co Document, subject of this review: | E9: =SUMMARY!B10 -> M737-3A - Phase 1 - Pumping Stations 6 and 7 - 90% Submittal.zip
A10: =SUMMARY!A11 -> H3 number assigned to the document subject of this review: | E10: =SUMMARY!B11 -> PC-M737-3A-REP-001; PC-M737-3A-TAF-001; PC-M737-3A-CAL-001; PC-M737-3A-DWG-001 to 081
A11: =SUMMARY!A12 -> Revision # of the document subject of this review | E11: =SUMMARY!B12 -> A
A12: =SUMMARY!A17 -> Lead Reviewer name: | E12: =SUMMARY!B17 -> Dennis Regan
A13: Reviewer(s) name(s):
A14: 1 | B14: 2 | C14: 3 | D14: 4 | E14: 5 | F14: 6 | G14: 7 | H14: 8 | I14: 9 | J14: 10
A15: Comment No. | B15: Section | C15: Item | D15: Project Agreement Reference | E15: Project Agreement Requirement | F15: HMQ Review Comment | G15: HMQ | H15: WEMG Response | I15: WEMG Compliance | J15: HMQ Check
G16: Designation | I16: Action
A17: 1
A18: 2
A19: 3
A20: 4
A21: 5
A22: 6

Sheet QUALITY
A1: The Right Honourable Herb Gray Parkway Project | I1: Revision # | J1: =SUMMARY!B14 -> A
A2: Submittal Compliance Review Report # | G2: =SUMMARY!B13 -> H3-M737-3A-CRR-001
A3: Comments and Disposition Sheet
A4: Topic: Quality
A5: =SUMMARY!A6 -> Submittal Number: | E5: =SUMMARY!B6 -> SUB - M737-3A - 967
A6: =SUMMARY!A7 -> Submittal Title: | E6: =SUMMARY!B7 -> Phase 1 - Pumping Stations 6 and 7 - 90% Submission
A7: =SUMMARY!A8 -> Review Due Date: | E7: =SUMMARY!B8 -> 41288
A8: =SUMMARY!A9 -> Title of Project Co Document, subject of this review: | E8: =SUMMARY!B9 -> Phase 1 - Pumping Stations 6 and 7 - 90% Submission
A9: =SUMMARY!A10 -> Number of Project Co Document, subject of this review: | E9: =SUMMARY!B10 -> M737-3A - Phase 1 - Pumping Stations 6 and 7 - 90% Submittal.zip
A10: =SUMMARY!A11 -> H3 number assigned to the document subject of this review: | E10: =SUMMARY!B11 -> PC-M737-3A-REP-001; PC-M737-3A-TAF-001; PC-M737-3A-CAL-001; PC-M737-3A-DWG-001 to 081
A11: =SUMMARY!A12 -> Revision # of the document subject of this review | E11: =SUMMARY!B12 -> A
A12: =SUMMARY!A17 -> Lead Reviewer name: | E12: =SUMMARY!B17 -> Dennis Regan
A13: Reviewer(s) name(s):
A14: 1 | B14: 2 | C14: 3 | D14: 4 | E14: 5 | F14: 6 | G14: 7 | H14: 8 | I14: 9 | J14: 10
A15: Comment No. | B15: Section | C15: Item | D15: Project Agreement Reference | E15: Project Agreement Requirement | F15: HMQ Review Comment | G15: HMQ | H15: WEMG Response | I15: WEMG Compliance | J15: HMQ Check
G16: Designation | I16: Action
A17: 1
A18: 2
A19: 3
A20: 4
A21: 5
A22: 6
F32: =SUMMARY!A1 -> The Right Honourable Herb Gray Parkway Project

Sheet TBD
A1: =SUMMARY!A1 -> The Right Honourable Herb Gray Parkway Project | I1: Revision # | J1: =SUMMARY!B14 -> A
A2: Submittal Compliance Review Report # | G2: =SUMMARY!B13 -> H3-M737-3A-CRR-001
A3: Comments and Disposition Sheet
A4: Topic: TBD
A5: =SUMMARY!A6 -> Submittal Number: | E5: =SUMMARY!B6 -> SUB - M737-3A - 967
A6: =SUMMARY!A7 -> Submittal Title: | E6: =SUMMARY!B7 -> Phase 1 - Pumping Stations 6 and 7 - 90% Submission
A7: =SUMMARY!A8 -> Review Due Date: | E7: =SUMMARY!B8 -> 41288
A8: =SUMMARY!A9 -> Title of Project Co Document, subject of this review: | E8: =SUMMARY!B9 -> Phase 1 - Pumping Stations 6 and 7 - 90% Submission
A9: =SUMMARY!A10 -> Number of Project Co Document, subject of this review: | E9: =SUMMARY!B10 -> M737-3A - Phase 1 - Pumping Stations 6 and 7 - 90% Submittal.zip
A10: =SUMMARY!A11 -> H3 number assigned to the document subject of this review: | E10: =SUMMARY!B11 -> PC-M737-3A-REP-001; PC-M737-3A-TAF-001; PC-M737-3A-CAL-001; PC-M737-3A-DWG-001 to 081
A11: =SUMMARY!A12 -> Revision # of the document subject of this review | E11: =SUMMARY!B12 -> A
A12: =SUMMARY!A17 -> Lead Reviewer name: | E12: =SUMMARY!B17 -> Dennis Regan
A13: Reviewer(s) name(s):
A14: 1 | B14: 2 | C14: 3 | D14: 4 | E14: 5 | F14: 6 | G14: 7 | H14: 8 | I14: 9 | J14: 10
A15: Comment No. | B15: Section | C15: Item | D15: Project Agreement Reference | E15: Project Agreement Requirement | F15: HMQ Review Comment | G15: HMQ | H15: WEMG Response | I15: WEMG Compliance | J15: HMQ Check
G16: Designation | I16: Action
A17: 1
A18: 2
A19: 3
A20: 4
A21: 5
A22: 6
