Workbook
Name HMQCHECK: INSTRUCTIONS!$B$46:$B$47
Name HMQRSP: INSTRUCTIONS!$B$32:$B$33
Name WEMGRSP: INSTRUCTIONS!$B$36:$B$41

Sheet INSTRUCTIONS
A1: Windsor-Essex Parkway Project | I1: Revision # | J1: automatically filled by DC
A2: Submittal Compliance Review Report # | G2: automatically filled by DC
A3: Comments and Disposition Sheet
A4: TOPIC: TBD
A5: Submittal Number: | D5: automically filled in by H3
A6: Submittal Title: | D6: automically filled in by H3
A7: H3 Document Number: | D7: automically filled in by H3
A8: Title of Project Co Document, subject of this review: | D8: automically filled in by H3
A9: Number of Project Co Document, subject of this review: | D9: automically filled in by H3
A10: Review Due Date: | D10: automically filled in by H3
A11: Lead Reviewer name: | D11: automically filled in by H3
A12: Reviewers Names | D12: automically filled in by H3
A14: 1 | B14: 2 | C14: 3 | D14: 4 | E14: 5 | F14: 6 | G14: 7 | H14: 8 | I14: 9 | J14: 10
A15: Comment No. | B15: Section of Document | C15: Subject Item | D15: Project Agreement Reference | E15: Project Agreement Requirement | F15: HMQ Review Comment | G15: HMQ | H15: WEMG Response | I15: WEMG Compliance | J15: HMQ Check
G16: Designation | I16: Action
A17: 1 | B17: List the referenced section of the review document (include plan and page number as applicable) | C17: List the subject item | D17: Provide the relevant Project Agreement Reference | E17: Copy and paste the relevant section or clause from the Project Agreement | F17: Insert the review comment (use a separate line for each comment) | G17: Reviewed as Noted or Rejected | H17: See the list below | I17: Describe the action that was taken to respond to the comment and to address it in the documents to be submitted at the next stage of review. | J17: Compliant or Non-Compliant
A18: 2
A19: 3
A21: Notes to Users of this Submittal Compliance Review WorkBook
A22: 1. Worksheet "Summary" is filled by the PA Compliance Manager, except for the header wich is filled by DC
A23: 2. Worksheet "Reviewed items" is filled by the Lead Reviewer
A24: 3. Individual reviewers must identify their worksheet, in accordance to the TOPIC (their specialty) and fill in only in that worksheet, as per the following instructions:
A26: Columns 1-6 are to be completed by HMQ upon review of the document.
A27: Columns 2 and 3 cite the Document section and the specific item being addressed.
A28: Column 4 is the Schedule, part, and section from the Project Agreement.
A29: Column 5 is a quote copied directly from the Project Agreement.
A30: Column 6 contains HMQ’s comments regarding the compliance of the subject item.
A31: Column 7 is where HMQ enters either:
B32: Reviewed As Noted
B33: Rejected
A34: Note that items that have been “Reviewed” for which HMQ has no comment will not be included in this table.
A35: Column 8 cells are unlocked and are for WEMG to enter its response to HMQs comments. This will be done after the Compliance Review Form has been transmitted by HMQ to WEMG. The entry options are:
B36: Will Comply
B37: Will Resubmit
B38: Will Evaluate
B39: Don’t Understand
B40: Disagree
B41: Not Applicable
A42: If there are differences between Columns 7 and 8, a meeting will be scheduled to discuss and the entries will be adjusted to reflect the resolution.
A43: Column 9 cells are unlocked and will be filled in by WEMG to indicate what action was taken to address the intended response. The complete form will be included with the next formal submittal package (i.e.: when submitting the Final Design package after the Pre-Final Design submittal).
A44: For a single submission that do not have subsequent submittal packages, this column will be filled in with the re-submittal.
A45: Column 10 is where HMQ enters its conclusion when a comment has been addressed. This effectively closes the comment. A Non-Compliant conclusion may lead to the Variation or Dispute Resolution Procedures.
B46: Compliant
B47: Non-Compliant
A49: NOTATION CONVENTIONS FOR THE IDENTIFICATION NUMBER (ID):
A50: The groups of digits of the ID are organized as follows:
A51: [Originator ID digits]-[Submittal ID digits] & [Revision Number]-[Document Type ID digits]-[ Sequence of digits for the document/record of the same type, issued under the same submittal by the same originator]
A52: “Originator ID” group of digits The ID group [originator ID digits] is limited to two digits and the following convention applies: “PC” is to be used for documents/records issued by Project Co (WEMG) “H1” is to be used for documents/records issued by IO ”H2” is to be used for documents/records issued by MTO ”H3” is to be used for documents/records issued by CH2M Hill ”H4” is to be used for documents/records issued by Owner’s Engineer “IC” is to be used for documents/records issued by Independent Certifier

Sheet SUMMARY
A1: Windsor-Essex Parkway Project
A2: Submittal Compliance Review Report
A3: Summary Report
A4: (for Each Submittal Document)
A5: IDENTIFICATION DATA (reserved for DC)
A6: Submittal Number: | B6: SUB-M637A-339
A7: Submittal Title: | B7: Pumping Station and Generator Buildings- 60% Design Submission
A8: Review Due Date: | B8: 40970
A9: Title of Project Co Document, subject of this review: | B9: Pumping Station and Generator Buildings- 60% Design Submission
A10: Number of Project Co Document, subject of this review: | B10: M637A - Pumping Station and Generator Buildings 60% Design Submission.zip (1)
A11: H3 number assigned to the document subject of this review: | B11: PC-M637A-LST-001; PC-M637A-LST-001 to 171
A12: Revision # of the document subject of this review | B12: A
A13: Submittal Compliance Review Report document # | B13: H3-M637A-CRR-001
A14: Revision # of this Submittal Compliance Review Report | B14: A
A15: SUMMARY REPORT
A16: REVIEW
A17: Lead Reviewer name: | B17: Dennis Regan
A18: PA Compliance Manager name: | B18: Sam Chan
A19: Review Completed on by Due Date:
A20: Reason for Delay (if applicable): | B20: =IF(B19="YES","NOT APPLICABLE","<WRITE REASONS>") -> <WRITE REASONS>
A21: All Items are assigned "REVIEWED":
A22: How many items assigned "REJECTED"?: | B22: =SUM(COUNTIF('DOC CTRL'!G18:G150,"rejected"),COUNTIF(ENVIRON!G17:G150,"rejected"), COUNTIF(ROADWAY!G17:G150, "rejected"), COUNTIF(UTILITIES!G17:G150,"rejected"),COUNTIF(STRUCTURES!G17:G150,"rejected"), COUNTIF(DRAINAGE!G17:G136,"rejected"), COUNTIF(ELECTRICAL!G17:G129,"rejected"), COUNTIF(TRAFFIC!G17:G150,"rejected"), COUNTIF(QUALITY!G17:G150,"rejected")) -> 0
A23: How many items assigned "REVIEWED AS NOTED"?: | B23: =SUM(COUNTIF('DOC CTRL'!G18:G150,"reviewed as noted"),COUNTIF(ENVIRON!G17:G150,"reviewed as noted"), COUNTIF(ROADWAY!G17:G150, "reviewed as noted"), COUNTIF(UTILITIES!G17:G150,"reviewed as noted"),COUNTIF(STRUCTURES!G17:G150,"reviewed as noted"), COUNTIF(DRAINAGE!G17:G136,"reviewed as noted"), COUNTIF(ELECTRICAL!G17:G129,"reviewed as noted"), COUNTIF(MECHANICAL!G17:G150,"reviewed as noted"), COUNTIF(PROCESS!G17:G131,"reviewed as noted")) -> 16
A25: REJECTED ITEMS
A26: Topic Reviewed (i.e. Tab in Workbook) | B26: Comment No.: | C26: Reason for Rejection:
A29: DEVIATIONS REQUIRED (a deviation to the PA that HMQ may consider, which may or may not lead to the Variation Procedure.)
A30: Topic Reviewed | B30: Comment No.: | C30: Description of Deviation:
A33: SIGNIFICANT COMMENTS ('Reviewed as Noted' item that needs to be brought to the HMQ Representative's attention.)
A34: Topic Reviewed | B34: Comment No.: | C34: Comment:
A37: NOTES
A40: Attachments:
A41: List of Items Reviewed
A42: Review Comments
A43: Other Attachments (if any):

Sheet REVIEWED ITEMS
A1: Windsor-Essex Parkway Project
A2: Submittal Compliance Review Report #: | E2: =SUMMARY!B13 -> H3-M637A-CRR-001
A3: Reviewed Items List | E3: Revision: | F3: =SUMMARY!B14 -> A
A5: =SUMMARY!A6 -> Submittal Number: | D5: =SUMMARY!B6 -> SUB-M637A-339
A6: =SUMMARY!A7 -> Submittal Title: | D6: =SUMMARY!B7 -> Pumping Station and Generator Buildings- 60% Design Submission
A7: =SUMMARY!A8 -> Review Due Date: | D7: =SUMMARY!B8 -> 40970
A8: =SUMMARY!A9 -> Title of Project Co Document, subject of this review: | D8: =SUMMARY!B9 -> Pumping Station and Generator Buildings- 60% Design Submission
A9: =SUMMARY!A10 -> Number of Project Co Document, subject of this review: | D9: =SUMMARY!B10 -> M637A - Pumping Station and Generator Buildings 60% Design Submission.zip (1)
A10: =SUMMARY!A11 -> H3 number assigned to the document subject of this review: | D10: =SUMMARY!B11 -> PC-M637A-LST-001; PC-M637A-LST-001 to 171
A11: Revision # of the document subject of this review | D11: =SUMMARY!B12 -> A
A12: =SUMMARY!A17 -> Lead Reviewer name: | D12: =SUMMARY!B17 -> Dennis Regan
A13: Reviewer(s) name(s):
A14: 1 | B14: 2 | C14: 3 | D14: 4 | E14: 5 | F14: 6
A15: No. | B15: Section | C15: Item Name | D15: Item Number | E15: Reviewed? | F15: Reason for Not Reviewing the Item

Sheet DOC CTRL
A1: Windsor-Essex Parkway Project | I1: Revision # | J1: =SUMMARY!B14 -> A
A2: Submittal Compliance Review Report # | G2: =SUMMARY!B13 -> H3-M637A-CRR-001
A3: Comments and Disposition Sheet
A4: Topic: DOCUMENT CONTROL
A5: =SUMMARY!A6 -> Submittal Number: | F5: =SUMMARY!B6 -> SUB-M637A-339
A6: =SUMMARY!A7 -> Submittal Title: | F6: =SUMMARY!B7 -> Pumping Station and Generator Buildings- 60% Design Submission
A7: Review Due Date (typical two business days upon receipt of hardcopy package- date filled by H3):
A8: =SUMMARY!A9 -> Title of Project Co Document, subject of this review: | F8: =SUMMARY!B9 -> Pumping Station and Generator Buildings- 60% Design Submission
A9: =SUMMARY!A10 -> Number of Project Co Document, subject of this review: | F9: =SUMMARY!B10 -> M637A - Pumping Station and Generator Buildings 60% Design Submission.zip (1)
A10: =SUMMARY!A11 -> H3 number assigned to the document subject of this review: | F10: =SUMMARY!B11 -> PC-M637A-LST-001; PC-M637A-LST-001 to 171
A11: =SUMMARY!A12 -> Revision # of the document subject of this review | F11: =SUMMARY!B12 -> A
A12: =SUMMARY!$A$17 -> Lead Reviewer name: | F12: =SUMMARY!B17 -> Dennis Regan
A13: Reviewer(s) name(s):
A15: 1 | B15: 2 | C15: 3 | D15: 4 | E15: 5 | F15: 6 | G15: 7 | H15: 8 | I15: 9 | J15: 10
A16: Comment No. | B16: Section | C16: Item | D16: Project Agreement Reference | E16: Project Agreement Requirement | F16: HMQ Review Comment | G16: HMQ | H16: WEMG Response | I16: WEMG Compliance | J16: HMQ Check
G17: Designation | I17: Action
A18: 1
A19: 2
A20: 3
A21: 4
A22: 5
A23: 6

Sheet ENVIRON
A1: Windsor-Essex Parkway Project | I1: Revision # | J1: =SUMMARY!B14 -> A
A2: Submittal Compliance Review Report # | G2: =SUMMARY!B13 -> H3-M637A-CRR-001
A3: Comments and Disposition Sheet
A4: Topic: ENVIRONMENTAL
A5: =SUMMARY!A6 -> Submittal Number: | E5: =SUMMARY!B6 -> SUB-M637A-339
A6: =SUMMARY!A7 -> Submittal Title: | E6: =SUMMARY!B7 -> Pumping Station and Generator Buildings- 60% Design Submission
A7: =SUMMARY!A8 -> Review Due Date: | E7: =SUMMARY!B8 -> 40970
A8: =SUMMARY!A9 -> Title of Project Co Document, subject of this review: | E8: =SUMMARY!B9 -> Pumping Station and Generator Buildings- 60% Design Submission
A9: =SUMMARY!A10 -> Number of Project Co Document, subject of this review: | E9: =SUMMARY!B10 -> M637A - Pumping Station and Generator Buildings 60% Design Submission.zip (1)
A10: =SUMMARY!A11 -> H3 number assigned to the document subject of this review: | E10: =SUMMARY!B11 -> PC-M637A-LST-001; PC-M637A-LST-001 to 171
A11: =SUMMARY!A12 -> Revision # of the document subject of this review | E11: =SUMMARY!B12 -> A
A12: =SUMMARY!A17 -> Lead Reviewer name: | E12: =SUMMARY!B17 -> Dennis Regan
A13: Reviewer(s) name(s):
A14: 1 | B14: 2 | C14: 3 | D14: 4 | E14: 5 | F14: 6 | G14: 7 | H14: 8 | I14: 9 | J14: 10
A15: Comment No. | B15: Section | C15: Item | D15: Project Agreement Reference | E15: Project Agreement Requirement | F15: HMQ Review Comment | G15: HMQ | H15: WEMG Response | I15: WEMG Compliance | J15: HMQ Check
G16: Designation | I16: Action
A17: 1
A18: 2
A19: 3
A20: 4
A21: 5
A22: 6

Sheet ROADWAY
A1: Windsor-Essex Parkway Project | I1: Revision # | J1: =SUMMARY!B14 -> A
A2: Submittal Compliance Review Report # | G2: =SUMMARY!B13 -> H3-M637A-CRR-001
A3: Comments and Disposition Sheet
A4: Topic: ROADWAY
A5: =SUMMARY!A6 -> Submittal Number: | E5: =SUMMARY!B6 -> SUB-M637A-339
A6: =SUMMARY!A7 -> Submittal Title: | E6: =SUMMARY!B7 -> Pumping Station and Generator Buildings- 60% Design Submission
A7: =SUMMARY!A8 -> Review Due Date: | E7: =SUMMARY!B8 -> 40970
A8: =SUMMARY!A9 -> Title of Project Co Document, subject of this review: | E8: =SUMMARY!B9 -> Pumping Station and Generator Buildings- 60% Design Submission
A9: =SUMMARY!A10 -> Number of Project Co Document, subject of this review: | E9: =SUMMARY!B10 -> M637A - Pumping Station and Generator Buildings 60% Design Submission.zip (1)
A10: =SUMMARY!A11 -> H3 number assigned to the document subject of this review: | E10: =SUMMARY!B11 -> PC-M637A-LST-001; PC-M637A-LST-001 to 171
A11: =SUMMARY!A12 -> Revision # of the document subject of this review | E11: =SUMMARY!B12 -> A
A12: =SUMMARY!A17 -> Lead Reviewer name: | E12: =SUMMARY!B17 -> Dennis Regan
A13: Reviewer(s) name(s):
A14: 1 | B14: 2 | C14: 3 | D14: 4 | E14: 5 | F14: 6 | G14: 7 | H14: 8 | I14: 9 | J14: 10
A15: Comment No. | B15: Section | C15: Item | D15: Project Agreement Reference | E15: Project Agreement Requirement | F15: HMQ Review Comment | G15: HMQ | H15: WEMG Response | I15: WEMG Compliance | J15: HMQ Check
G16: Designation | I16: Action
A17: 1
A18: 2
A19: 3
A20: 4
A21: 5
A22: 6

Sheet UTILITIES
A1: Windsor-Essex Parkway Project | I1: Revision # | J1: =SUMMARY!B14 -> A
A2: Submittal Compliance Review Report # | G2: =SUMMARY!B13 -> H3-M637A-CRR-001
A3: Comments and Disposition Sheet
A4: Topic: UTILITIES
A5: =SUMMARY!A6 -> Submittal Number: | E5: =SUMMARY!B6 -> SUB-M637A-339
A6: =SUMMARY!A7 -> Submittal Title: | E6: =SUMMARY!B7 -> Pumping Station and Generator Buildings- 60% Design Submission
A7: =SUMMARY!A8 -> Review Due Date: | E7: =SUMMARY!B8 -> 40970
A8: =SUMMARY!A9 -> Title of Project Co Document, subject of this review: | E8: =SUMMARY!B9 -> Pumping Station and Generator Buildings- 60% Design Submission
A9: =SUMMARY!A10 -> Number of Project Co Document, subject of this review: | E9: =SUMMARY!B10 -> M637A - Pumping Station and Generator Buildings 60% Design Submission.zip (1)
A10: =SUMMARY!A11 -> H3 number assigned to the document subject of this review: | E10: =SUMMARY!B11 -> PC-M637A-LST-001; PC-M637A-LST-001 to 171
A11: =SUMMARY!A12 -> Revision # of the document subject of this review | E11: =SUMMARY!B12 -> A
A12: =SUMMARY!A17 -> Lead Reviewer name: | E12: =SUMMARY!B17 -> Dennis Regan
A13: Reviewer(s) name(s):
A14: 1 | B14: 2 | C14: 3 | D14: 4 | E14: 5 | F14: 6 | G14: 7 | H14: 8 | I14: 9 | J14: 10
A15: Comment No. | B15: Section | C15: Item | D15: Project Agreement Reference | E15: Project Agreement Requirement | F15: HMQ Review Comment | G15: HMQ | H15: WEMG Response | I15: WEMG Compliance | J15: HMQ Check
G16: Designation | I16: Action
A17: 1
A18: 2
A19: 3
A20: 4
A21: 5
A22: 6

Sheet STRUCTURES
A1: Windsor-Essex Parkway Project | I1: Revision # | J1: =SUMMARY!B14 -> A
A2: Submittal Compliance Review Report # | G2: =SUMMARY!B13 -> H3-M637A-CRR-001
A3: Comments and Disposition Sheet
A4: Topic: STRUCTURES
A5: =SUMMARY!A6 -> Submittal Number: | E5: =SUMMARY!B6 -> SUB-M637A-339
A6: =SUMMARY!A7 -> Submittal Title: | E6: =SUMMARY!B7 -> Pumping Station and Generator Buildings- 60% Design Submission
A7: =SUMMARY!A8 -> Review Due Date: | E7: =SUMMARY!B8 -> 40970
A8: =SUMMARY!A9 -> Title of Project Co Document, subject of this review: | E8: =SUMMARY!B9 -> Pumping Station and Generator Buildings- 60% Design Submission
A9: =SUMMARY!A10 -> Number of Project Co Document, subject of this review: | E9: =SUMMARY!B10 -> M637A - Pumping Station and Generator Buildings 60% Design Submission.zip (1)
A10: =SUMMARY!A11 -> H3 number assigned to the document subject of this review: | E10: =SUMMARY!B11 -> PC-M637A-LST-001; PC-M637A-LST-001 to 171
A11: =SUMMARY!A12 -> Revision # of the document subject of this review | E11: =SUMMARY!B12 -> A
A12: =SUMMARY!A17 -> Lead Reviewer name: | E12: =SUMMARY!B17 -> Dennis Regan
A13: Reviewer(s) name(s):
A14: 1 | B14: 2 | C14: 3 | D14: 4 | E14: 5 | F14: 6 | G14: 7 | H14: 8 | I14: 9 | J14: 10
A15: Comment No. | B15: Section | C15: Item | D15: Project Agreement Reference | E15: Project Agreement Requirement | F15: HMQ Review Comment | G15: HMQ | H15: WEMG Response | I15: WEMG Compliance | J15: HMQ Check
G16: Designation | I16: Action
A17: 1
A18: 2
A19: 3
A20: 4
A21: 5
A22: 6

Sheet ELECTRICAL
A1: Windsor-Essex Parkway Project | I1: Revision # | J1: =SUMMARY!B14 -> A
A2: Submittal Compliance Review Report # | G2: =SUMMARY!B13 -> H3-M637A-CRR-001
A3: Comments and Disposition Sheet
A4: Topic: ELECTRICAL
A5: =SUMMARY!A6 -> Submittal Number: | E5: =SUMMARY!B6 -> SUB-M637A-339
A6: =SUMMARY!A7 -> Submittal Title: | E6: =SUMMARY!B7 -> Pumping Station and Generator Buildings- 60% Design Submission
A7: =SUMMARY!A8 -> Review Due Date: | E7: =SUMMARY!B8 -> 40970
A8: =SUMMARY!A9 -> Title of Project Co Document, subject of this review: | E8: =SUMMARY!B9 -> Pumping Station and Generator Buildings- 60% Design Submission
A9: =SUMMARY!A10 -> Number of Project Co Document, subject of this review: | E9: =SUMMARY!B10 -> M637A - Pumping Station and Generator Buildings 60% Design Submission.zip (1)
A10: =SUMMARY!A11 -> H3 number assigned to the document subject of this review: | E10: =SUMMARY!B11 -> PC-M637A-LST-001; PC-M637A-LST-001 to 171
A11: =SUMMARY!A12 -> Revision # of the document subject of this review | E11: =SUMMARY!B12 -> A
A12: =SUMMARY!A17 -> Lead Reviewer name: | E12: =SUMMARY!B17 -> Dennis Regan
A13: Reviewer(s) name(s): | E13: Lew Pollard, Jana Jamnicky
A14: 1 | B14: 2 | C14: 3 | D14: 4 | E14: 5 | F14: 6 | G14: 7 | H14: 8 | I14: 9 | J14: 10
A15: Comment No. | B15: Section | C15: Item | D15: Project Agreement Reference | E15: Project Agreement Requirement | F15: HMQ Review Comment | G15: HMQ | H15: WEMG Response | I15: WEMG Compliance | J15: HMQ Check
G16: Designation | I16: Action
A17: 1 | B17: Sheets V1004, V2004, V3004, V5004, V7004 | C17: Emergency Lighting | D17: Schedule 15-2, Part 2, Article 6 | E17: Electrical, Signals and Lighting Design Criteria | F17: Provide confirmation that requirements of Ontario Electrical Safety Code; Rule 46-304, Subrule 4 have been met. | G17: Reviewed As Noted | H17: Will Comply | I17: Emergency lighting will provide a minimum of 90 minutes of illumination for the rated wattage upon loss of AC power.

Sheet TRAFFIC
A1: Windsor-Essex Parkway Project | I1: Revision # | J1: =SUMMARY!B14 -> A
A2: Submittal Compliance Review Report # | G2: =SUMMARY!B13 -> H3-M637A-CRR-001
A3: Comments and Disposition Sheet
A4: Topic: TRAFFIC
A5: =SUMMARY!A6 -> Submittal Number: | E5: =SUMMARY!B6 -> SUB-M637A-339
A6: =SUMMARY!A7 -> Submittal Title: | E6: =SUMMARY!B7 -> Pumping Station and Generator Buildings- 60% Design Submission
A7: =SUMMARY!A8 -> Review Due Date: | E7: =SUMMARY!B8 -> 40970
A8: =SUMMARY!A9 -> Title of Project Co Document, subject of this review: | E8: =SUMMARY!B9 -> Pumping Station and Generator Buildings- 60% Design Submission
A9: =SUMMARY!A10 -> Number of Project Co Document, subject of this review: | E9: =SUMMARY!B10 -> M637A - Pumping Station and Generator Buildings 60% Design Submission.zip (1)
A10: =SUMMARY!A11 -> H3 number assigned to the document subject of this review: | E10: =SUMMARY!B11 -> PC-M637A-LST-001; PC-M637A-LST-001 to 171
A11: =SUMMARY!A12 -> Revision # of the document subject of this review | E11: =SUMMARY!B12 -> A
A12: =SUMMARY!A17 -> Lead Reviewer name: | E12: =SUMMARY!B17 -> Dennis Regan
A13: Reviewer(s) name(s):
A14: 1 | B14: 2 | C14: 3 | D14: 4 | E14: 5 | F14: 6 | G14: 7 | H14: 8 | I14: 9 | J14: 10
A15: Comment No. | B15: Section | C15: Item | D15: Project Agreement Reference | E15: Project Agreement Requirement | F15: HMQ Review Comment | G15: HMQ | H15: WEMG Response | I15: WEMG Compliance | J15: HMQ Check
G16: Designation | I16: Action
A17: 1
A18: 2
A19: 3
A20: 4
A21: 5
A22: 6

Sheet QUALITY
A1: Windsor-Essex Parkway Project | I1: Revision # | J1: =SUMMARY!B14 -> A
A2: Submittal Compliance Review Report # | G2: =SUMMARY!B13 -> H3-M637A-CRR-001
A3: Comments and Disposition Sheet
A4: Topic: Quality
A5: =SUMMARY!A6 -> Submittal Number: | E5: =SUMMARY!B6 -> SUB-M637A-339
A6: =SUMMARY!A7 -> Submittal Title: | E6: =SUMMARY!B7 -> Pumping Station and Generator Buildings- 60% Design Submission
A7: =SUMMARY!A8 -> Review Due Date: | E7: =SUMMARY!B8 -> 40970
A8: =SUMMARY!A9 -> Title of Project Co Document, subject of this review: | E8: =SUMMARY!B9 -> Pumping Station and Generator Buildings- 60% Design Submission
A9: =SUMMARY!A10 -> Number of Project Co Document, subject of this review: | E9: =SUMMARY!B10 -> M637A - Pumping Station and Generator Buildings 60% Design Submission.zip (1)
A10: =SUMMARY!A11 -> H3 number assigned to the document subject of this review: | E10: =SUMMARY!B11 -> PC-M637A-LST-001; PC-M637A-LST-001 to 171
A11: =SUMMARY!A12 -> Revision # of the document subject of this review | E11: =SUMMARY!B12 -> A
A12: =SUMMARY!A17 -> Lead Reviewer name: | E12: =SUMMARY!B17 -> Dennis Regan
A13: Reviewer(s) name(s):
A14: 1 | B14: 2 | C14: 3 | D14: 4 | E14: 5 | F14: 6 | G14: 7 | H14: 8 | I14: 9 | J14: 10
A15: Comment No. | B15: Section | C15: Item | D15: Project Agreement Reference | E15: Project Agreement Requirement | F15: HMQ Review Comment | G15: HMQ | H15: WEMG Response | I15: WEMG Compliance | J15: HMQ Check
G16: Designation | I16: Action
A17: 1
A18: 2
A19: 3
A20: 4
A21: 5
A22: 6

Sheet DRAINAGE
A1: Windsor-Essex Parkway Project | I1: Revision # | J1: =SUMMARY!B14 -> A
A2: Submittal Compliance Review Report # | G2: =SUMMARY!B13 -> H3-M637A-CRR-001
A3: Comments and Disposition Sheet
A4: Topic: DRAINAGE
A5: =SUMMARY!A6 -> Submittal Number: | E5: =SUMMARY!B6 -> SUB-M637A-339
A6: =SUMMARY!A7 -> Submittal Title: | E6: =SUMMARY!B7 -> Pumping Station and Generator Buildings- 60% Design Submission
A7: =SUMMARY!A8 -> Review Due Date: | E7: =SUMMARY!B8 -> 40970
A8: =SUMMARY!A9 -> Title of Project Co Document, subject of this review: | E8: =SUMMARY!B9 -> Pumping Station and Generator Buildings- 60% Design Submission
A9: =SUMMARY!A10 -> Number of Project Co Document, subject of this review: | E9: =SUMMARY!B10 -> M637A - Pumping Station and Generator Buildings 60% Design Submission.zip (1)
A10: =SUMMARY!A11 -> H3 number assigned to the document subject of this review: | E10: =SUMMARY!B11 -> PC-M637A-LST-001; PC-M637A-LST-001 to 171
A11: =SUMMARY!A12 -> Revision # of the document subject of this review | E11: =SUMMARY!B12 -> A
A12: =SUMMARY!A17 -> Lead Reviewer name: | E12: =SUMMARY!B17 -> Dennis Regan
A13: Reviewer(s) name(s): | E13: David Dietrich
A14: 1 | B14: 2 | C14: 3 | D14: 4 | E14: 5 | F14: 6 | G14: 7 | H14: 8 | I14: 9 | J14: 10
A15: Comment No. | B15: Section | C15: Item | D15: Project Agreement Reference | E15: Project Agreement Requirement | F15: HMQ Review Comment | G15: HMQ | H15: WEMG Response | I15: WEMG Compliance | J15: HMQ Check
G16: Designation | I16: Action
A17: 1 | B17: Design Summary Table | C17: High Water Level | D17: Schedule 15-2, Part 2, Section 7.1 (a) (ii) | E17: Highway Drainage Design Standards, 2008 SD-7 Depressed Roadways and Underpasses 3.2.1 The allowable high water elevation in pump station shall be set so that the water surface elevation in the collection system for the Major System Design Flow provides at least 0.3m of freeboard below the lowest roadway inlet. | F17: Provide confirmation that requirements of Clause 3.2.1 of SD-7 are met. | G17: Reviewed As Noted | H17: Will Comply | I17: Confirmation will be provided in the 90% submission.
A18: 2 | B18: Sheet P1003 | C18: Flow Rate | D18: Schedule 15-2, Part 2, Section 7.3 (a) (xi) C | E18: Pumping stations shall be designed to convey the 100-year storm. For each storm outlet serviced by pumps, the number of pumps per station shall provide 100% peak flow redundancy. A minimum of four (4) pumps per station shall be provided to allow for one pump in standby and one in repair with two pumps operational. | F18: Sheet P1003 indicates design 100yr peak inflow of 2670l/s. The Phase 2 Highway and Roadway Drainage Design Report (D063A) gives a peak flow of 3354l/s in Table 4. | G18: Reviewed As Noted | H18: Will Comply | I18: The flows will be reconciled prior to the 90% submission.
A19: 3 | B19: Sheets P1003, P2003, P3003, P5003, P6003, P7003 | C19: Flow Rates | D19: Schedule 15-2, Part 2, Section 7.3 (a) (xi) C | E19: Pumping stations shall be designed to convey the 100-year storm. For each storm outlet serviced by pumps, the number of pumps per station shall provide 100% peak flow redundancy. A minimum of four (4) pumps per station shall be provided to allow for one pump in standby and one in repair with two pumps operational. | F19: All rational method calculations for peak flows in sewers subject to revision. Ensure design flows updated accordingly. | G19: Reviewed As Noted | H19: Will Comply | I19: Flows will be updated prior to the 90% submission.
A20: 4 | B20: Sheet P1002 | C20: Pond High Water Levels | D20: General | F20: High Water Level for Pond 5 (181.98m) does not match elevation from Submission M683A (182.18m) | G20: Reviewed As Noted | H20: Will Comply | I20: The 100-year water level will be updated prior to the 90% submission. Will be updated prior to the 90% submission.
A21: 5 | B21: Structural Drawings | C21: % complete | D21: General | F21: Drawings are approximately 30% complete. | G21: Reviewed As Noted | H21: Will Evaluate | I21: Design will be updated prior to 90% submission, taking into account final SW drainage sewer elevations, geotechnical data, construction methodology, etc.
A22: 6 | B22: Structural Drawings | C22: Wall thickness | D22: General | F22: Some walls are thicker than expected for this application (varies from 1200mm to 2900mm thick.) | G22: Reviewed As Noted | H22: Will Evaluate | I22: Design will be updated prior to 90% submission, taking into account final SW drainage sewer elevations, geotechnical data, construction methodology, etc.

Sheet MECHANICAL
A1: Windsor-Essex Parkway Project | I1: Revision # | J1: =SUMMARY!B14 -> A
A2: Submittal Compliance Review Report # | G2: =SUMMARY!B13 -> H3-M637A-CRR-001
A3: Comments and Disposition Sheet
A4: Topic: MECHANICAL
A5: =SUMMARY!A6 -> Submittal Number: | E5: =SUMMARY!B6 -> SUB-M637A-339
A6: =SUMMARY!A7 -> Submittal Title: | E6: =SUMMARY!B7 -> Pumping Station and Generator Buildings- 60% Design Submission
A7: =SUMMARY!A8 -> Review Due Date: | E7: =SUMMARY!B8 -> 40970
A8: =SUMMARY!A9 -> Title of Project Co Document, subject of this review: | E8: =SUMMARY!B9 -> Pumping Station and Generator Buildings- 60% Design Submission
A9: =SUMMARY!A10 -> Number of Project Co Document, subject of this review: | E9: =SUMMARY!B10 -> M637A - Pumping Station and Generator Buildings 60% Design Submission.zip (1)
A10: =SUMMARY!A11 -> H3 number assigned to the document subject of this review: | E10: =SUMMARY!B11 -> PC-M637A-LST-001; PC-M637A-LST-001 to 171
A11: =SUMMARY!A12 -> Revision # of the document subject of this review | E11: =SUMMARY!B12 -> A
A12: =SUMMARY!A17 -> Lead Reviewer name: | E12: =SUMMARY!B17 -> Dennis Regan
A13: Reviewer(s) name(s): | E13: Mark Benedet
A14: 1 | B14: 2 | C14: 3 | D14: 4 | E14: 5 | F14: 6 | G14: 7 | H14: 8 | I14: 9 | J14: 10
A15: Comment No. | B15: Section | C15: Item | D15: Project Agreement Reference | E15: Project Agreement Requirement | F15: HMQ Review Comment | G15: HMQ | H15: WEMG Response | I15: WEMG Compliance | J15: HMQ Check
G16: Designation | I16: Action
A17: 1 | B17: Drawing Sheet P1001, P2001, P3001, P5001, P6001, P7001 | C17: Return fuel oil lines | D17: Schedule 15-2, Part 2 | E17: Design and Construction Requirements | F17: Return fuel oil lines are not to have any valves installed in them as per CSA B139 | G17: Reviewed As Noted | H17: Will Comply | I17: Confirmation will be provided in the 90% submission.
A18: 2 | B18: Drawing Sheet P1001, P2001, P3001, P5001, P6001, P7001 | C18: Fuel tank clearance | D18: Schedule 15-2, Part 2 | E18: Design and Construction Requirements | F18: The fuel tanks have to be installed with 600mm clearance around them | G18: Reviewed As Noted | H18: Disagree | I18: 600 mm clearance applies to enclosed, indoor tanks, over 2500L per CSA B139.

Sheet PROCESS
A1: Windsor-Essex Parkway Project | I1: Revision # | J1: =SUMMARY!B14 -> A
A2: Submittal Compliance Review Report # | G2: =SUMMARY!B13 -> H3-M637A-CRR-001
A3: Comments and Disposition Sheet
A4: Topic: PROCESS
A5: =SUMMARY!A6 -> Submittal Number: | E5: =SUMMARY!B6 -> SUB-M637A-339
A6: =SUMMARY!A7 -> Submittal Title: | E6: =SUMMARY!B7 -> Pumping Station and Generator Buildings- 60% Design Submission
A7: =SUMMARY!A8 -> Review Due Date: | E7: =SUMMARY!B8 -> 40970
A8: =SUMMARY!A9 -> Title of Project Co Document, subject of this review: | E8: =SUMMARY!B9 -> Pumping Station and Generator Buildings- 60% Design Submission
A9: =SUMMARY!A10 -> Number of Project Co Document, subject of this review: | E9: =SUMMARY!B10 -> M637A - Pumping Station and Generator Buildings 60% Design Submission.zip (1)
A10: =SUMMARY!A11 -> H3 number assigned to the document subject of this review: | E10: =SUMMARY!B11 -> PC-M637A-LST-001; PC-M637A-LST-001 to 171
A11: =SUMMARY!A12 -> Revision # of the document subject of this review | E11: =SUMMARY!B12 -> A
A12: =SUMMARY!A17 -> Lead Reviewer name: | E12: =SUMMARY!B17 -> Dennis Regan
A13: Reviewer(s) name(s): | E13: Meseret Aniye
A14: 1 | B14: 2 | C14: 3 | D14: 4 | E14: 5 | F14: 6 | G14: 7 | H14: 8 | I14: 9 | J14: 10
A15: Comment No. | B15: Section | C15: Item | D15: Project Agreement Reference | E15: Project Agreement Requirement | F15: HMQ Review Comment | G15: HMQ | H15: WEMG Response | I15: WEMG Compliance | J15: HMQ Check
G16: Designation | I16: Action
A17: 1 | B17: Drawing Sheet P1001, P2001, P3001, P5001, P6001, P7001 | C17: Road access | D17: Schedule 15-2, Part 2 | E17: Design and Construction Requirements | F17: Show road access to wetwell and generator building by vehicle to service pump and other equipment. Access must allow for safe exiting and entrance on the roadways as well as space for parking and heavy equipment locations for pump removal. | G17: Reviewed As Noted | H17: Will Comply | I17: Confirmation will be provided in the 90% submission.
A18: 2 | B18: Drawing Sheet P1005, P2005, P3005, P5005,P6005, P7005 | C18: Design methodology | D18: Schedule 15-2, Part 2 | E18: Design and Construction Requirements | F18: Wetwell minimum water level, minimum distance from pump bell centre line to sloping floor deviates from generally accepted standards. In this case, Hydraulic Institutes Pump intake, design latest revision. This could cause issues with vortexing and pump vibration. | G18: Reviewed As Noted | H18: Will Comply | I18: Levels and dimensions will reflect HI recommendations and Pump Manufacturer's specifications. Confirmation will be provided in the 90% submission.
A19: 3 | B19: Drawing Sheet P1005, P2005, P3005, P5005, P6001, P7001 | C19: Valve | D19: Schedule 15-2, Part 2 | E19: Design and Construction Requirements | F19: Check valve is located where servicing and/or removal of the valve is difficult | G19: Reviewed As Noted | H19: Will Comply | I19: 90% submission will provide maintenance access platforms & ladders inside pump station structure.
A20: 4 | B20: Drawing Sheet P1005, P2005, P3005, P5005, P6005, P7005 | C20: Dresser coupling | D20: Schedule 15-2, Part 2 | E20: Design and Construction Requirements | F20: Supply & install Dresser coupling for the forcemain outside of valve chamber, provide thrust restraint and pipe supports. | G20: Reviewed As Noted | H20: Will Evaluate | I20: Design will be updated prior to the 90% submission.
A21: 5 | B21: Drawing Sheet P1005, P2005, P3005, P5005, P6005, P7005 | C21: Lifting mechanism | D21: Schedule 15-2, Part 2 | E21: Design and Construction Requirements | F21: Provide lifting mechanism for pumps, screen basket and other equipment | G21: Reviewed As Noted | H21: Will Comply | I21: Chains will be provided, enabling removal by crane.
A22: 6 | B22: Drawing Sheet P1008, P2008, P3008, P5008, P6008, P7008 | C22: Rain protection | D22: Schedule 15-2, Part 2 | E22: Design and Construction Requirements | F22: Provide rain protection for diesel stack. | G22: Reviewed As Noted | H22: Will Comply | I22: Will provide rain cap the 90% submission.
A23: 7 | B23: Ground water pumping | C23: Category 3 permit | D23: Schedule 15-2, Part 2 | E23: Design and Construction Requirements | F23: If the groundwater pumping is > 50,000 L/day, a Category 3 permit may be required. | G23: Reviewed As Noted | H23: Will Comply | I23: A PTTW that addresses all dewatering required with excavations and depressurization of the ground water associated with the construction and permanent design of the pumping stations has been received.

Sheet Sheet1
